BEGIN:VCALENDAR
VERSION:2.0
PRODID:-//Corrie Bain - ECPv5.15.0//NONSGML v1.0//EN
CALSCALE:GREGORIAN
METHOD:PUBLISH
X-WR-CALNAME:Corrie Bain
X-ORIGINAL-URL:https://corriebain.com
X-WR-CALDESC:Events for Corrie Bain
REFRESH-INTERVAL;VALUE=DURATION:PT1H
X-Robots-Tag:noindex
X-PUBLISHED-TTL:PT1H
BEGIN:VTIMEZONE
TZID:Europe/Paris
BEGIN:DAYLIGHT
TZOFFSETFROM:+0100
TZOFFSETTO:+0200
TZNAME:CEST
DTSTART:20210328T010000
END:DAYLIGHT
BEGIN:STANDARD
TZOFFSETFROM:+0200
TZOFFSETTO:+0100
TZNAME:CET
DTSTART:20211031T010000
END:STANDARD
BEGIN:DAYLIGHT
TZOFFSETFROM:+0100
TZOFFSETTO:+0200
TZNAME:CEST
DTSTART:20220327T010000
END:DAYLIGHT
BEGIN:STANDARD
TZOFFSETFROM:+0200
TZOFFSETTO:+0100
TZNAME:CET
DTSTART:20221030T010000
END:STANDARD
BEGIN:DAYLIGHT
TZOFFSETFROM:+0100
TZOFFSETTO:+0200
TZNAME:CEST
DTSTART:20230326T010000
END:DAYLIGHT
BEGIN:STANDARD
TZOFFSETFROM:+0200
TZOFFSETTO:+0100
TZNAME:CET
DTSTART:20231029T010000
END:STANDARD
BEGIN:DAYLIGHT
TZOFFSETFROM:+0100
TZOFFSETTO:+0200
TZNAME:CEST
DTSTART:20240331T010000
END:DAYLIGHT
BEGIN:STANDARD
TZOFFSETFROM:+0200
TZOFFSETTO:+0100
TZNAME:CET
DTSTART:20241027T010000
END:STANDARD
BEGIN:DAYLIGHT
TZOFFSETFROM:+0100
TZOFFSETTO:+0200
TZNAME:CEST
DTSTART:20250330T010000
END:DAYLIGHT
BEGIN:STANDARD
TZOFFSETFROM:+0200
TZOFFSETTO:+0100
TZNAME:CET
DTSTART:20251026T010000
END:STANDARD
BEGIN:DAYLIGHT
TZOFFSETFROM:+0100
TZOFFSETTO:+0200
TZNAME:CEST
DTSTART:20260329T010000
END:DAYLIGHT
BEGIN:STANDARD
TZOFFSETFROM:+0200
TZOFFSETTO:+0100
TZNAME:CET
DTSTART:20261025T010000
END:STANDARD
END:VTIMEZONE
BEGIN:VEVENT
DTSTART;VALUE=DATE:20260411
DTEND;VALUE=DATE:20260413
DTSTAMP:20260420T070855
CREATED:20251009T151855Z
LAST-MODIFIED:20251009T152928Z
UID:7477-1775865600-1776038399@corriebain.com
SUMMARY:Intensive Weekend Ceramic Lamps Course
DESCRIPTION:Designing with Light: Create Your Own Ceramic Lamp\n2 days\, Sat/Sun 10am-15pm\nPrice: 180€ \nA hands-on weekend for people who love ceramics\, design\, and light. Across two focused days\, you’ll conceive and craft a ceramic lamp from the ground up—as a complete object\, both aesthetically and technically. We’ll kick off with an accessible intro to lighting basics and electrical components\, handle real samples (cables\, bulbs\, lamp holders) and run live light tests. Then you’ll sketch your idea and move straight into clay. On Sunday we’ll continue building and\, if it suits your piece\, finish with slip decoration. We won’t do electrical assembly during the course\, but you’ll learn exactly how to complete it afterwards. \n  \nBooking – Intensive weekend ceramic lamps course – Corrie Bain
URL:https://corriebain.com/event/intensive-weekend-ceramic-lamps-course/
LOCATION:Corrie Bain School\, Barcelona\, 08005
CATEGORIES:EN - English,EN - Intensive weekend course,EN - Masterclasses
ATTACH;FMTTYPE=image/jpeg:https://corriebain.com/wp-content/uploads/2025/10/Imagen-de-WhatsApp-2025-10-09-a-las-17.23.52_015f7c9b.jpg
END:VEVENT
BEGIN:VEVENT
DTSTART;VALUE=DATE:20251124
DTEND;VALUE=DATE:20251127
DTSTAMP:20260420T070855
CREATED:20250430T161047Z
LAST-MODIFIED:20250430T161740Z
UID:6917-1763942400-1764201599@corriebain.com
SUMMARY:John Britt Masterclass: Cone 6 Ceramic Glaze Workshop
DESCRIPTION:Cone 6 Ceramic Glaze Masterclass\nReady to take your ceramics to the next level?You’re about to learn from the very best! \nWe’re thrilled to announce the John Britt Masterclass\, an exclusive course organised by renowned ceramic artist Corrie Bain\, taught by the legendary glaze expert John Britt!🙌 \nDiscover the secrets of high and low-fire glazes\, learn advanced techniques\, and deepen your understanding of colour\, texture\, and the magic of fire. \n📅 Pre-booking now open! Spots are limited and fill up fast – don’t miss out! \nNovember 24th-26th \n9am to 17pm \nLanguage: English (No translation in site) \nPrebooking- John Britt Masterclass – Corrie Bain \n 
URL:https://corriebain.com/event/john-britt-masterclass-cone-6-ceramic-glaze-workshop/
LOCATION:Corrie Bain School\, Barcelona\, 08005
CATEGORIES:EN - English,EN - Masterclasses
ATTACH;FMTTYPE=image/jpeg:https://corriebain.com/wp-content/uploads/2025/04/1-scaled.jpg
END:VEVENT
BEGIN:VEVENT
DTSTART;VALUE=DATE:20211028
DTEND;VALUE=DATE:20211030
DTSTAMP:20260420T070855
CREATED:20211021T161039Z
LAST-MODIFIED:20211021T161609Z
UID:3273-1635379200-1635551999@corriebain.com
SUMMARY:Masterclass with Vicente Rivera: Plaster Molds
DESCRIPTION:
URL:https://corriebain.com/event/masterclass-with-vicente-rivera-plaster-molds/
CATEGORIES:EN - English,EN - Masterclasses
ATTACH;FMTTYPE=image/jpeg:https://corriebain.com/wp-content/uploads/2021/10/moldes1.jpg
END:VEVENT
BEGIN:VEVENT
DTSTART;VALUE=DATE:20211027
DTEND;VALUE=DATE:20211028
DTSTAMP:20260420T070855
CREATED:20211021T154744Z
LAST-MODIFIED:20211026T075652Z
UID:3257-1635292800-1635379199@corriebain.com
SUMMARY:Masterclass with Roger Coll
DESCRIPTION:
URL:https://corriebain.com/event/masterclass-with-roger-coll/
CATEGORIES:EN - English,EN - Masterclasses
ATTACH;FMTTYPE=image/jpeg:https://corriebain.com/wp-content/uploads/2021/07/slide_roger_2.jpg
END:VEVENT
BEGIN:VEVENT
DTSTART;VALUE=DATE:20211025
DTEND;VALUE=DATE:20211027
DTSTAMP:20260420T070855
CREATED:20211021T153730Z
LAST-MODIFIED:20211026T074310Z
UID:3248-1635120000-1635292799@corriebain.com
SUMMARY:Masterclass with Juan Ortí
DESCRIPTION:
URL:https://corriebain.com/event/masterclass-with-juan-orti/
CATEGORIES:EN - English,EN - Masterclasses
ATTACH;FMTTYPE=image/jpeg:https://corriebain.com/wp-content/uploads/2021/10/Joan-orti1.jpg
END:VEVENT
BEGIN:VEVENT
DTSTART;VALUE=DATE:20211020
DTEND;VALUE=DATE:20211021
DTSTAMP:20260420T070855
CREATED:20210818T093823Z
LAST-MODIFIED:20210818T093823Z
UID:2699-1634688000-1634774399@corriebain.com
SUMMARY:Masterclass Nicholas Arroyave Portela
DESCRIPTION:
URL:https://corriebain.com/event/masterclass-with-nicholas-arroyave-portela/
CATEGORIES:EN - English,EN - Masterclasses
ATTACH;FMTTYPE=image/jpeg:https://corriebain.com/wp-content/uploads/2021/07/slide_nicholas_2.jpg
END:VEVENT
END:VCALENDAR