BEGIN:VCALENDAR
VERSION:2.0
PRODID:-//Corrie Bain - ECPv5.15.0//NONSGML v1.0//EN
CALSCALE:GREGORIAN
METHOD:PUBLISH
X-WR-CALNAME:Corrie Bain
X-ORIGINAL-URL:https://corriebain.com
X-WR-CALDESC:Events for Corrie Bain
REFRESH-INTERVAL;VALUE=DURATION:PT1H
X-Robots-Tag:noindex
X-PUBLISHED-TTL:PT1H
BEGIN:VTIMEZONE
TZID:Europe/Paris
BEGIN:DAYLIGHT
TZOFFSETFROM:+0100
TZOFFSETTO:+0200
TZNAME:CEST
DTSTART:20260329T010000
END:DAYLIGHT
BEGIN:STANDARD
TZOFFSETFROM:+0200
TZOFFSETTO:+0100
TZNAME:CET
DTSTART:20261025T010000
END:STANDARD
END:VTIMEZONE
BEGIN:VEVENT
DTSTART;VALUE=DATE:20260509
DTEND;VALUE=DATE:20260511
DTSTAMP:20260420T051639
CREATED:20251009T151204Z
LAST-MODIFIED:20251009T151406Z
UID:7471-1778284800-1778457599@corriebain.com
SUMMARY:Intensive Weekend Big Object HandBuilding Course
DESCRIPTION:Big Object: Build a Large Ceramic Form in a Weekend\n2 days\, Sat/Sun 10am-15pm\nPrice: 250€ \nMake something boldly oversized. In this intensive two-day workshop you’ll hand-build a large ceramic object using slab construction and extruded coils. Working with groggy clay\, you’ll learn fast\, efficient techniques to scale up your forms\, manage moisture\, and keep big pieces stable. We’ll focus on clean\, professional surfaces and a build strategy you can repeat on your own. All pieces will be single-fired. \n  \nBooking – Intensive weekend big object handbuilding course – Corrie Bain
URL:https://corriebain.com/event/intensive-weekend-big-object-handbuilding-courseintensive-weekend-wheel-throwing-course-41/
LOCATION:Corrie Bain School\, Barcelona\, 08005
CATEGORIES:EN - English,EN - Handbuilding,EN - Intensive weekend course,EN - Masterclasses
ATTACH;FMTTYPE=image/jpeg:https://corriebain.com/wp-content/uploads/2025/10/IMG_0458-scaled.jpg
END:VEVENT
BEGIN:VEVENT
DTSTART;VALUE=DATE:20261024
DTEND;VALUE=DATE:20261026
DTSTAMP:20260420T051639
CREATED:20251009T151453Z
LAST-MODIFIED:20251009T151453Z
UID:7475-1792800000-1792972799@corriebain.com
SUMMARY:Intensive Weekend Big Object HandBuilding Course
DESCRIPTION:Big Object: Build a Large Ceramic Form in a Weekend\n2 days\, Sat/Sun 10am-15pm\nPrice: 250€ \nMake something boldly oversized. In this intensive two-day workshop you’ll hand-build a large ceramic object using slab construction and extruded coils. Working with groggy clay\, you’ll learn fast\, efficient techniques to scale up your forms\, manage moisture\, and keep big pieces stable. We’ll focus on clean\, professional surfaces and a build strategy you can repeat on your own. All pieces will be single-fired. \n  \nBooking – Intensive weekend big object handbuilding course – Corrie Bain
URL:https://corriebain.com/event/intensive-weekend-big-object-handbuilding-course/
LOCATION:Corrie Bain School\, Barcelona\, 08005
CATEGORIES:EN - English,EN - Handbuilding,EN - Intensive weekend course,EN - Masterclasses
ATTACH;FMTTYPE=image/jpeg:https://corriebain.com/wp-content/uploads/2025/10/IMG_0458-scaled.jpg
END:VEVENT
BEGIN:VEVENT
DTSTART;VALUE=DATE:20261107
DTEND;VALUE=DATE:20261109
DTSTAMP:20260420T051639
CREATED:20251009T152007Z
LAST-MODIFIED:20251009T153745Z
UID:7479-1794009600-1794182399@corriebain.com
SUMMARY:Intensive Weekend Ceramic Lamps Course
DESCRIPTION:Designing with Light: Create Your Own Ceramic Lamp\n2 days\, Sat/Sun 10am-15pm\nPrice: 180€ \nA hands-on weekend for people who love ceramics\, design\, and light. Across two focused days\, you’ll conceive and craft a ceramic lamp from the ground up—as a complete object\, both aesthetically and technically. We’ll kick off with an accessible intro to lighting basics and electrical components\, handle real samples (cables\, bulbs\, lamp holders) and run live light tests. Then you’ll sketch your idea and move straight into clay. On Sunday we’ll continue building and\, if it suits your piece\, finish with slip decoration. We won’t do electrical assembly during the course\, but you’ll learn exactly how to complete it afterwards. \n  \nBooking – Intensive weekend ceramic lamps course – Corrie Bain
URL:https://corriebain.com/event/intensive-weekend-ceramic-lamps-course-2/
LOCATION:Corrie Bain School\, Barcelona\, 08005
CATEGORIES:EN - English,EN - Intensive weekend course,EN - Masterclasses
ATTACH;FMTTYPE=image/jpeg:https://corriebain.com/wp-content/uploads/2025/10/Imagen-de-WhatsApp-2025-10-09-a-las-17.23.52_015f7c9b.jpg
END:VEVENT
END:VCALENDAR