BEGIN:VCALENDAR
VERSION:2.0
PRODID:-//Corrie Bain - ECPv5.15.0//NONSGML v1.0//EN
CALSCALE:GREGORIAN
METHOD:PUBLISH
X-WR-CALNAME:Corrie Bain
X-ORIGINAL-URL:https://corriebain.com
X-WR-CALDESC:Events for Corrie Bain
REFRESH-INTERVAL;VALUE=DURATION:PT1H
X-Robots-Tag:noindex
X-PUBLISHED-TTL:PT1H
BEGIN:VTIMEZONE
TZID:Europe/Paris
BEGIN:DAYLIGHT
TZOFFSETFROM:+0100
TZOFFSETTO:+0200
TZNAME:CEST
DTSTART:20250330T010000
END:DAYLIGHT
BEGIN:STANDARD
TZOFFSETFROM:+0200
TZOFFSETTO:+0100
TZNAME:CET
DTSTART:20251026T010000
END:STANDARD
END:VTIMEZONE
BEGIN:VEVENT
DTSTART;VALUE=DATE:20250517
DTEND;VALUE=DATE:20250519
DTSTAMP:20260421T193020
CREATED:20250204T101841Z
LAST-MODIFIED:20250204T101841Z
UID:6656-1747440000-1747612799@corriebain.com
SUMMARY:Curso intensivo de Modelado fin de semana
DESCRIPTION:Inscríbete: \nReserva – Curso intensivo de modelado de fin de semana – Corrie Bain \n 
URL:https://corriebain.com/event/curso-intensivo-de-modelado-fin-de-semana-33/
LOCATION:Corrie Bain School\, Barcelona\, 08005
CATEGORIES:ES - Castellano,ES - Curso intensivo fin de semana,ES - Modelado,November
ATTACH;FMTTYPE=image/jpeg:https://corriebain.com/wp-content/uploads/2021/07/02.jpg
END:VEVENT
END:VCALENDAR