BEGIN:VCALENDAR
VERSION:2.0
PRODID:-//Corrie Bain - ECPv5.15.0//NONSGML v1.0//EN
CALSCALE:GREGORIAN
METHOD:PUBLISH
X-WR-CALNAME:Corrie Bain
X-ORIGINAL-URL:https://corriebain.com
X-WR-CALDESC:Events for Corrie Bain
REFRESH-INTERVAL;VALUE=DURATION:PT1H
X-Robots-Tag:noindex
X-PUBLISHED-TTL:PT1H
BEGIN:VTIMEZONE
TZID:Europe/Paris
BEGIN:DAYLIGHT
TZOFFSETFROM:+0100
TZOFFSETTO:+0200
TZNAME:CEST
DTSTART:20220327T010000
END:DAYLIGHT
BEGIN:STANDARD
TZOFFSETFROM:+0200
TZOFFSETTO:+0100
TZNAME:CET
DTSTART:20221030T010000
END:STANDARD
BEGIN:DAYLIGHT
TZOFFSETFROM:+0100
TZOFFSETTO:+0200
TZNAME:CEST
DTSTART:20230326T010000
END:DAYLIGHT
BEGIN:STANDARD
TZOFFSETFROM:+0200
TZOFFSETTO:+0100
TZNAME:CET
DTSTART:20231029T010000
END:STANDARD
BEGIN:DAYLIGHT
TZOFFSETFROM:+0100
TZOFFSETTO:+0200
TZNAME:CEST
DTSTART:20240331T010000
END:DAYLIGHT
BEGIN:STANDARD
TZOFFSETFROM:+0200
TZOFFSETTO:+0100
TZNAME:CET
DTSTART:20241027T010000
END:STANDARD
BEGIN:DAYLIGHT
TZOFFSETFROM:+0100
TZOFFSETTO:+0200
TZNAME:CEST
DTSTART:20250330T010000
END:DAYLIGHT
BEGIN:STANDARD
TZOFFSETFROM:+0200
TZOFFSETTO:+0100
TZNAME:CET
DTSTART:20251026T010000
END:STANDARD
END:VTIMEZONE
BEGIN:VEVENT
DTSTART;VALUE=DATE:20251115
DTEND;VALUE=DATE:20251117
DTSTAMP:20260423T165202
CREATED:20250204T102134Z
LAST-MODIFIED:20250204T102134Z
UID:6662-1763164800-1763337599@corriebain.com
SUMMARY:Curso intensivo de Modelado fin de semana
DESCRIPTION:Inscríbete: \nReserva – Curso intensivo de modelado de fin de semana – Corrie Bain \n 
URL:https://corriebain.com/event/curso-intensivo-de-modelado-fin-de-semana-36/
LOCATION:Corrie Bain School\, Barcelona\, 08005
CATEGORIES:ES - Castellano,ES - Curso intensivo fin de semana,ES - Modelado,November
ATTACH;FMTTYPE=image/jpeg:https://corriebain.com/wp-content/uploads/2021/07/02.jpg
END:VEVENT
BEGIN:VEVENT
DTSTART;VALUE=DATE:20250920
DTEND;VALUE=DATE:20250922
DTSTAMP:20260423T165202
CREATED:20250204T102031Z
LAST-MODIFIED:20250204T102031Z
UID:6660-1758326400-1758499199@corriebain.com
SUMMARY:Curso intensivo de Modelado fin de semana
DESCRIPTION:Inscríbete: \nReserva – Curso intensivo de modelado de fin de semana – Corrie Bain \n 
URL:https://corriebain.com/event/curso-intensivo-de-modelado-fin-de-semana-35/
LOCATION:Corrie Bain School\, Barcelona\, 08005
CATEGORIES:ES - Castellano,ES - Curso intensivo fin de semana,ES - Modelado,November
ATTACH;FMTTYPE=image/jpeg:https://corriebain.com/wp-content/uploads/2021/07/02.jpg
END:VEVENT
BEGIN:VEVENT
DTSTART;VALUE=DATE:20250719
DTEND;VALUE=DATE:20250721
DTSTAMP:20260423T165202
CREATED:20250204T101935Z
LAST-MODIFIED:20250204T101935Z
UID:6658-1752883200-1753055999@corriebain.com
SUMMARY:Curso intensivo de Modelado fin de semana
DESCRIPTION:Inscríbete: \nReserva – Curso intensivo de modelado de fin de semana – Corrie Bain \n 
URL:https://corriebain.com/event/curso-intensivo-de-modelado-fin-de-semana-34/
LOCATION:Corrie Bain School\, Barcelona\, 08005
CATEGORIES:ES - Castellano,ES - Curso intensivo fin de semana,ES - Modelado,November
ATTACH;FMTTYPE=image/jpeg:https://corriebain.com/wp-content/uploads/2021/07/02.jpg
END:VEVENT
BEGIN:VEVENT
DTSTART;VALUE=DATE:20250517
DTEND;VALUE=DATE:20250519
DTSTAMP:20260423T165202
CREATED:20250204T101841Z
LAST-MODIFIED:20250204T101841Z
UID:6656-1747440000-1747612799@corriebain.com
SUMMARY:Curso intensivo de Modelado fin de semana
DESCRIPTION:Inscríbete: \nReserva – Curso intensivo de modelado de fin de semana – Corrie Bain \n 
URL:https://corriebain.com/event/curso-intensivo-de-modelado-fin-de-semana-33/
LOCATION:Corrie Bain School\, Barcelona\, 08005
CATEGORIES:ES - Castellano,ES - Curso intensivo fin de semana,ES - Modelado,November
ATTACH;FMTTYPE=image/jpeg:https://corriebain.com/wp-content/uploads/2021/07/02.jpg
END:VEVENT
BEGIN:VEVENT
DTSTART;VALUE=DATE:20250315
DTEND;VALUE=DATE:20250317
DTSTAMP:20260423T165202
CREATED:20250204T101709Z
LAST-MODIFIED:20250304T094727Z
UID:6654-1741996800-1742169599@corriebain.com
SUMMARY:Curso intensivo de Modelado fin de semana
DESCRIPTION:Inscríbete: \nReserva – Curso intensivo de modelado de fin de semana – Corrie Bain \n 
URL:https://corriebain.com/event/curso-intensivo-de-modelado-fin-de-semana-32/
LOCATION:Corrie Bain School\, Barcelona\, 08005
CATEGORIES:ES - Castellano,ES - Curso intensivo fin de semana,ES - Modelado,November
ATTACH;FMTTYPE=image/jpeg:https://corriebain.com/wp-content/uploads/2021/07/02.jpg
END:VEVENT
BEGIN:VEVENT
DTSTART;VALUE=DATE:20250118
DTEND;VALUE=DATE:20250120
DTSTAMP:20260423T165202
CREATED:20241223T091037Z
LAST-MODIFIED:20241223T091037Z
UID:6572-1737158400-1737331199@corriebain.com
SUMMARY:Curso intensivo de Modelado fin de semana
DESCRIPTION:
URL:https://corriebain.com/event/curso-intensivo-de-modelado-fin-de-semana-31/
CATEGORIES:ES - Castellano,ES - Curso intensivo fin de semana,ES - Modelado,November
ATTACH;FMTTYPE=image/jpeg:https://corriebain.com/wp-content/uploads/2021/07/02.jpg
END:VEVENT
BEGIN:VEVENT
DTSTART;VALUE=DATE:20241130
DTEND;VALUE=DATE:20241202
DTSTAMP:20260423T165202
CREATED:20240319T182424Z
LAST-MODIFIED:20241115T165015Z
UID:5834-1732924800-1733097599@corriebain.com
SUMMARY:Curso intensivo de Modelado fin de semana
DESCRIPTION:
URL:https://corriebain.com/event/curso-intensivo-de-modelado-fin-de-semana-30/
CATEGORIES:ES - Castellano,ES - Curso intensivo fin de semana,ES - Modelado,November
ATTACH;FMTTYPE=image/jpeg:https://corriebain.com/wp-content/uploads/2021/07/02.jpg
END:VEVENT
BEGIN:VEVENT
DTSTART;VALUE=DATE:20241109
DTEND;VALUE=DATE:20241111
DTSTAMP:20260423T165202
CREATED:20240319T181408Z
LAST-MODIFIED:20240319T181408Z
UID:5810-1731110400-1731283199@corriebain.com
SUMMARY:Curso intensivo de Modelado fin de semana
DESCRIPTION:
URL:https://corriebain.com/event/curso-intensivo-de-modelado-fin-de-semana-29/
CATEGORIES:ES - Castellano,ES - Curso intensivo fin de semana,ES - Modelado
ATTACH;FMTTYPE=image/jpeg:https://corriebain.com/wp-content/uploads/2021/07/02.jpg
END:VEVENT
BEGIN:VEVENT
DTSTART;VALUE=DATE:20241005
DTEND;VALUE=DATE:20241007
DTSTAMP:20260423T165202
CREATED:20240319T180543Z
LAST-MODIFIED:20240319T180543Z
UID:5792-1728086400-1728259199@corriebain.com
SUMMARY:Curso intensivo de Modelado fin de semana
DESCRIPTION:
URL:https://corriebain.com/event/curso-intensivo-de-modelado-fin-de-semana-28/
CATEGORIES:ES - Castellano,ES - Curso intensivo fin de semana,ES - Modelado
ATTACH;FMTTYPE=image/jpeg:https://corriebain.com/wp-content/uploads/2021/07/02.jpg
END:VEVENT
BEGIN:VEVENT
DTSTART;VALUE=DATE:20240914
DTEND;VALUE=DATE:20240916
DTSTAMP:20260423T165202
CREATED:20240319T175503Z
LAST-MODIFIED:20240319T175503Z
UID:5768-1726272000-1726444799@corriebain.com
SUMMARY:Curso intensivo de Modelado fin de semana
DESCRIPTION:
URL:https://corriebain.com/event/curso-intensivo-de-modelado-fin-de-semana-27/
CATEGORIES:ES - Castellano,ES - Curso intensivo fin de semana,ES - Modelado
ATTACH;FMTTYPE=image/jpeg:https://corriebain.com/wp-content/uploads/2021/07/02.jpg
END:VEVENT
BEGIN:VEVENT
DTSTART;VALUE=DATE:20240810
DTEND;VALUE=DATE:20240812
DTSTAMP:20260423T165202
CREATED:20240319T175244Z
LAST-MODIFIED:20240319T175244Z
UID:5762-1723248000-1723420799@corriebain.com
SUMMARY:Curso intensivo de Modelado fin de semana
DESCRIPTION:
URL:https://corriebain.com/event/curso-intensivo-de-modelado-fin-de-semana-26/
CATEGORIES:ES - Castellano,ES - Curso intensivo fin de semana,ES - Modelado
ATTACH;FMTTYPE=image/jpeg:https://corriebain.com/wp-content/uploads/2021/07/02.jpg
END:VEVENT
BEGIN:VEVENT
DTSTART;VALUE=DATE:20240713
DTEND;VALUE=DATE:20240715
DTSTAMP:20260423T165202
CREATED:20240319T173620Z
LAST-MODIFIED:20240319T173620Z
UID:5723-1720828800-1721001599@corriebain.com
SUMMARY:Curso intensivo de Modelado fin de semana
DESCRIPTION:
URL:https://corriebain.com/event/curso-intensivo-de-modelado-fin-de-semana-25/
CATEGORIES:ES - Castellano,ES - Curso intensivo fin de semana,ES - Modelado
ATTACH;FMTTYPE=image/jpeg:https://corriebain.com/wp-content/uploads/2021/07/02.jpg
END:VEVENT
BEGIN:VEVENT
DTSTART;VALUE=DATE:20240608
DTEND;VALUE=DATE:20240610
DTSTAMP:20260423T165202
CREATED:20230904T171823Z
LAST-MODIFIED:20230904T171823Z
UID:5615-1717804800-1717977599@corriebain.com
SUMMARY:Curso intensivo de Modelado fin de semana
DESCRIPTION:
URL:https://corriebain.com/event/curso-intensivo-de-modelado-fin-de-semana-24/
CATEGORIES:ES - Castellano,ES - Curso intensivo fin de semana,ES - Modelado
ATTACH;FMTTYPE=image/jpeg:https://corriebain.com/wp-content/uploads/2021/07/02.jpg
END:VEVENT
BEGIN:VEVENT
DTSTART;VALUE=DATE:20240504
DTEND;VALUE=DATE:20240506
DTSTAMP:20260423T165202
CREATED:20230904T171726Z
LAST-MODIFIED:20230904T171726Z
UID:5613-1714780800-1714953599@corriebain.com
SUMMARY:Curso intensivo de Modelado fin de semana
DESCRIPTION:
URL:https://corriebain.com/event/curso-intensivo-de-modelado-fin-de-semana-23/
CATEGORIES:ES - Castellano,ES - Curso intensivo fin de semana,ES - Modelado
ATTACH;FMTTYPE=image/jpeg:https://corriebain.com/wp-content/uploads/2021/07/02.jpg
END:VEVENT
BEGIN:VEVENT
DTSTART;VALUE=DATE:20240406
DTEND;VALUE=DATE:20240408
DTSTAMP:20260423T165202
CREATED:20230904T171637Z
LAST-MODIFIED:20230904T171637Z
UID:5611-1712361600-1712534399@corriebain.com
SUMMARY:Curso intensivo de Modelado fin de semana
DESCRIPTION:
URL:https://corriebain.com/event/curso-intensivo-de-modelado-fin-de-semana-22/
CATEGORIES:ES - Castellano,ES - Curso intensivo fin de semana,ES - Modelado
ATTACH;FMTTYPE=image/jpeg:https://corriebain.com/wp-content/uploads/2021/07/02.jpg
END:VEVENT
BEGIN:VEVENT
DTSTART;VALUE=DATE:20240316
DTEND;VALUE=DATE:20240318
DTSTAMP:20260423T165202
CREATED:20230904T171539Z
LAST-MODIFIED:20230904T171539Z
UID:5609-1710547200-1710719999@corriebain.com
SUMMARY:Curso intensivo de Modelado fin de semana
DESCRIPTION:
URL:https://corriebain.com/event/curso-intensivo-de-modelado-fin-de-semana-21/
CATEGORIES:ES - Castellano,ES - Curso intensivo fin de semana,ES - Modelado
ATTACH;FMTTYPE=image/jpeg:https://corriebain.com/wp-content/uploads/2021/07/02.jpg
END:VEVENT
BEGIN:VEVENT
DTSTART;VALUE=DATE:20240210
DTEND;VALUE=DATE:20240212
DTSTAMP:20260423T165202
CREATED:20230904T171432Z
LAST-MODIFIED:20230904T171432Z
UID:5607-1707523200-1707695999@corriebain.com
SUMMARY:Curso intensivo de Modelado fin de semana
DESCRIPTION:
URL:https://corriebain.com/event/curso-intensivo-de-modelado-fin-de-semana-20/
CATEGORIES:ES - Castellano,ES - Curso intensivo fin de semana,ES - Modelado
ATTACH;FMTTYPE=image/jpeg:https://corriebain.com/wp-content/uploads/2021/07/02.jpg
END:VEVENT
BEGIN:VEVENT
DTSTART;VALUE=DATE:20240127
DTEND;VALUE=DATE:20240129
DTSTAMP:20260423T165202
CREATED:20230904T171323Z
LAST-MODIFIED:20230904T171323Z
UID:5605-1706313600-1706486399@corriebain.com
SUMMARY:Curso intensivo de Modelado fin de semana
DESCRIPTION:
URL:https://corriebain.com/event/curso-intensivo-de-modelado-fin-de-semana-19/
CATEGORIES:ES - Castellano,ES - Curso intensivo fin de semana,ES - Modelado
ATTACH;FMTTYPE=image/jpeg:https://corriebain.com/wp-content/uploads/2021/07/02.jpg
END:VEVENT
BEGIN:VEVENT
DTSTART;VALUE=DATE:20231202
DTEND;VALUE=DATE:20231204
DTSTAMP:20260423T165202
CREATED:20230814T054601Z
LAST-MODIFIED:20230814T054601Z
UID:5410-1701475200-1701647999@corriebain.com
SUMMARY:Curso intensivo de Modelado fin de semana
DESCRIPTION:
URL:https://corriebain.com/event/curso-intensivo-de-modelado-fin-de-semana-18/
CATEGORIES:ES - Castellano,ES - Curso intensivo fin de semana,ES - Modelado
ATTACH;FMTTYPE=image/jpeg:https://corriebain.com/wp-content/uploads/2021/07/02.jpg
END:VEVENT
BEGIN:VEVENT
DTSTART;VALUE=DATE:20231118
DTEND;VALUE=DATE:20231120
DTSTAMP:20260423T165202
CREATED:20230814T054342Z
LAST-MODIFIED:20230814T054342Z
UID:5406-1700265600-1700438399@corriebain.com
SUMMARY:Curso intensivo de Modelado fin de semana
DESCRIPTION:
URL:https://corriebain.com/event/curso-intensivo-de-modelado-fin-de-semana-17/
CATEGORIES:ES - Castellano,ES - Curso intensivo fin de semana,ES - Modelado
ATTACH;FMTTYPE=image/jpeg:https://corriebain.com/wp-content/uploads/2021/07/02.jpg
END:VEVENT
BEGIN:VEVENT
DTSTART;VALUE=DATE:20230930
DTEND;VALUE=DATE:20231002
DTSTAMP:20260423T165202
CREATED:20221210T123029Z
LAST-MODIFIED:20221210T123029Z
UID:4738-1696032000-1696204799@corriebain.com
SUMMARY:Curso intensivo de Modelado fin de semana
DESCRIPTION:
URL:https://corriebain.com/event/curso-intensivo-de-modelado-fin-de-semana-16/
CATEGORIES:ES - Castellano,ES - Curso intensivo fin de semana,ES - Modelado
ATTACH;FMTTYPE=image/jpeg:https://corriebain.com/wp-content/uploads/2021/07/02.jpg
END:VEVENT
BEGIN:VEVENT
DTSTART;VALUE=DATE:20230819
DTEND;VALUE=DATE:20230821
DTSTAMP:20260423T165202
CREATED:20220927T110053Z
LAST-MODIFIED:20220927T110053Z
UID:4630-1692403200-1692575999@corriebain.com
SUMMARY:Curso intensivo de Modelado fin de semana
DESCRIPTION:
URL:https://corriebain.com/event/curso-intensivo-de-modelado-fin-de-semana-15/
CATEGORIES:ES - Castellano,ES - Curso intensivo fin de semana,ES - Modelado
ATTACH;FMTTYPE=image/jpeg:https://corriebain.com/wp-content/uploads/2021/07/02.jpg
END:VEVENT
BEGIN:VEVENT
DTSTART;VALUE=DATE:20230708
DTEND;VALUE=DATE:20230710
DTSTAMP:20260423T165202
CREATED:20220927T105046Z
LAST-MODIFIED:20220927T105046Z
UID:4600-1688774400-1688947199@corriebain.com
SUMMARY:Curso intensivo de Modelado fin de semana
DESCRIPTION:
URL:https://corriebain.com/event/curso-intensivo-de-modelado-fin-de-semana-14/
CATEGORIES:ES - Castellano,ES - Curso intensivo fin de semana,ES - Modelado
ATTACH;FMTTYPE=image/jpeg:https://corriebain.com/wp-content/uploads/2021/07/02.jpg
END:VEVENT
BEGIN:VEVENT
DTSTART;VALUE=DATE:20230617
DTEND;VALUE=DATE:20230619
DTSTAMP:20260423T165202
CREATED:20220927T104505Z
LAST-MODIFIED:20220927T104505Z
UID:4582-1686960000-1687132799@corriebain.com
SUMMARY:Curso intensivo de Modelado fin de semana
DESCRIPTION:
URL:https://corriebain.com/event/curso-intensivo-de-modelado-fin-de-semana-13/
CATEGORIES:ES - Castellano,ES - Curso intensivo fin de semana,ES - Modelado
ATTACH;FMTTYPE=image/jpeg:https://corriebain.com/wp-content/uploads/2021/07/02.jpg
END:VEVENT
BEGIN:VEVENT
DTSTART;VALUE=DATE:20230513
DTEND;VALUE=DATE:20230515
DTSTAMP:20260423T165202
CREATED:20220927T103904Z
LAST-MODIFIED:20220927T103904Z
UID:4564-1683936000-1684108799@corriebain.com
SUMMARY:Curso intensivo de Modelado fin de semana
DESCRIPTION:
URL:https://corriebain.com/event/curso-intensivo-de-modelado-fin-de-semana-12/
CATEGORIES:ES - Castellano,ES - Curso intensivo fin de semana,ES - Modelado
ATTACH;FMTTYPE=image/jpeg:https://corriebain.com/wp-content/uploads/2021/07/02.jpg
END:VEVENT
BEGIN:VEVENT
DTSTART;VALUE=DATE:20230422
DTEND;VALUE=DATE:20230424
DTSTAMP:20260423T165202
CREATED:20220927T103159Z
LAST-MODIFIED:20220927T103159Z
UID:4546-1682121600-1682294399@corriebain.com
SUMMARY:Curso intensivo de Modelado fin de semana
DESCRIPTION:
URL:https://corriebain.com/event/curso-intensivo-de-modelado-fin-de-semana-11/
CATEGORIES:ES - Castellano,ES - Curso intensivo fin de semana,ES - Modelado
ATTACH;FMTTYPE=image/jpeg:https://corriebain.com/wp-content/uploads/2021/07/02.jpg
END:VEVENT
BEGIN:VEVENT
DTSTART;VALUE=DATE:20230311
DTEND;VALUE=DATE:20230313
DTSTAMP:20260423T165202
CREATED:20220927T102358Z
LAST-MODIFIED:20220927T102358Z
UID:4528-1678492800-1678665599@corriebain.com
SUMMARY:Curso intensivo de Modelado fin de semana
DESCRIPTION:
URL:https://corriebain.com/event/curso-intensivo-de-modelado-fin-de-semana-10/
CATEGORIES:ES - Castellano,ES - Curso intensivo fin de semana,ES - Modelado
ATTACH;FMTTYPE=image/jpeg:https://corriebain.com/wp-content/uploads/2021/07/02.jpg
END:VEVENT
BEGIN:VEVENT
DTSTART;VALUE=DATE:20230211
DTEND;VALUE=DATE:20230213
DTSTAMP:20260423T165202
CREATED:20220927T101936Z
LAST-MODIFIED:20220927T101936Z
UID:4516-1676073600-1676246399@corriebain.com
SUMMARY:Curso intensivo de Modelado fin de semana
DESCRIPTION:
URL:https://corriebain.com/event/curso-intensivo-de-modelado-fin-de-semana-9/
CATEGORIES:ES - Castellano,ES - Curso intensivo fin de semana,ES - Modelado
ATTACH;FMTTYPE=image/jpeg:https://corriebain.com/wp-content/uploads/2021/07/02.jpg
END:VEVENT
BEGIN:VEVENT
DTSTART;VALUE=DATE:20230128
DTEND;VALUE=DATE:20230130
DTSTAMP:20260423T165202
CREATED:20220926T152034Z
LAST-MODIFIED:20220926T152034Z
UID:4482-1674864000-1675036799@corriebain.com
SUMMARY:Curso intensivo de Modelado fin de semana
DESCRIPTION:
URL:https://corriebain.com/event/curso-intensivo-de-modelado-fin-de-semana-8/
CATEGORIES:ES - Castellano,ES - Curso intensivo fin de semana,ES - Modelado
ATTACH;FMTTYPE=image/jpeg:https://corriebain.com/wp-content/uploads/2021/07/02.jpg
END:VEVENT
BEGIN:VEVENT
DTSTART;VALUE=DATE:20221210
DTEND;VALUE=DATE:20221212
DTSTAMP:20260423T165202
CREATED:20210714T091546Z
LAST-MODIFIED:20220921T084224Z
UID:2297-1670630400-1670803199@corriebain.com
SUMMARY:Curso intensivo de Modelado fin de semana
DESCRIPTION:
URL:https://corriebain.com/event/curso-intensivo-de-modelado-fin-de-semana-2/
CATEGORIES:ES - Castellano,ES - Curso intensivo fin de semana,ES - Modelado
ATTACH;FMTTYPE=image/jpeg:https://corriebain.com/wp-content/uploads/2021/07/02.jpg
END:VEVENT
END:VCALENDAR